Workbook
Name addlogo: INDEX(#REF!,MATCH(#REF!,#REF!,0))
Name DKCO: #REF!
Name DKNO: #REF!
Name Donvi: #REF!
Name LM: #REF!
Name LN: #REF!
Name Taikhoan: #REF!
Name TaxTV: 10%
Name TaxXL: 5%
Name TK_BS: #REF!
Name TK_PL: #REF!
Name TK_TB: #REF!
Name TKBS: #REF!
Name Ý_kiến: #REF!
Name YKien: #REF!
Name ZYX: #REF!
Name ZZZ: #REF!

Sheet Tong quat
A1: Kỳ báo cáo: | C1: Tại ngày 30 tháng 09 năm 2026/As at September 30 2026
C2: Tháng 09 năm 2026/ September 2026
A4: Thông tin chung:
C5: Tên Quỹ: | D5: Quỹ đầu tư trái phiếu lợi tức cao HD
C6: Fund name: | D6: HD High Yield Bond Fund (HDBond)
C7: Tên Công ty quản lý quỹ: | D7: Công Ty Cổ Phần Quản Lý Quỹ HD
C8: Fund Management Company: | D8: HD Capital Joint Stock Company
C9: Tên ngân hàng giám sát: | D9: Ngân hàng TMCP Đầu tư và Phát triển Việt Nam CN Nam Kỳ Khởi Nghĩa
C10: Supervising bank: | D10: Bank for Investment and Development of VietNam JSC - Nam Ky Khoi Nghia Branch
C11: Ngày lập báo cáo: | D11: Ngày 06 tháng 10 năm 2026
C12: Reporting Date: | D12: 46301
A14: Người ký báo cáo:
C16: Đại diện có thẩm quyền của Ngân hàng giám sát | F16: Đại diện có thẩm quyền của Công ty quản lý Quỹ
C17: Authorised Representative of Supervisory Bank | F17: Authorised Representative of Fund Management Company
C19: NH TMCP ĐT & PT Việt Nam CN Nam Kỳ Khởi Nghĩa | F19: Công Ty Cổ Phần Quản Lý Quỹ HD
C20: Nguyễn Thị Minh Châu | F20: Nguyễn Thành Long
C21: Phó giám đốc Chi nhánh | F21: Tổng Giám Đốc
B27: STT | C27: Nội dung | E27: Tên sheet
B28: A | C28: BÁO CÁO CHUNG VỀ HOẠT ĐỘNG ĐẦU TƯ CỦA QUỸ
B29: 1 | C29: Báo cáo thu nhập | E29: BCThuNhap_06203
B30: 2 | C30: Báo cáo tình hình tài chính | E30: BCTinhHinhTaiChinh_06105
B31: 3 | C31: Báo cáo lưu chuyển tiền tệ | E31: BCLCGT_06262
B32: 4 | C32: Báo cáo tài sản | E32: BCTaiSan_06027
B33: 5 | C33: Baó cáo Kết quả hoạt động | E33: BCKetQuaHoatDong_06028
B34: 6 | C34: Baáo cáo Danh mục đầu tư | E34: BCDanhmucdautu_06029
B35: 7 | C35: Giá trị tài sản ròng | E35: GiaTriTaiSanRong_06129
B36: 8 | C36: Báo cáo hoạt động vay | E36: Bchoatdongvay_06026
B37: 9 | C37: Báo cáo chỉ tiêu khác | E37: Khac_06030
B38: 10 | C38: Thống kê phí giao dịch
B39: B | C39: BÁO CÁO TÌNH HÌNH TỰ DOANH ĐẦU TƯ GIÁN TIẾP RA NƯỚC NGOÀI CỦA QUỸ | E39: Không có
B42: Thống kê các Thuyết minh BCTC
D44: Có trình bày Y/N/O | E44: Nguyên nhân không trình bày
B45: 1/ | C45: Tiền gửi Ngân hàng | D45: Y
B46: 2/ | C46: Các khoản đầu tư | D46: Y
B47: 3/ | C47: Các khoản dự phòng | D47: O | E47: Chỉ có VF1 trình bày, các Quỹ khác không có khoản mục này không phải trình bày
B48: 4/ | C48: Vay ngắn hạn | D48: N | E48: Không có số dư không trình bày
B49: 5/ | C49: Phải trả mua các khoản đầu tư | D49: N | E49: Không có số dư không trình bày
B50: 6/ | C50: Phải trả các Đại lý phân phối, Công ty Quản lý quỹ về phí phát hành và mua lại Chứng chỉ quỹ | D50: N | E50: Trên báo cáo chính đã chi tiết theo từng khoản mục
B51: 7/ | C51: Thuế và các khoản phải nộp Nhà nước | D51: N | E51: Không bắt buộc, Quỹ chỉ có khoản mục thuế từ hoạt động mua bán CCQ và Thù lao BDD
B52: 8/ | C52: Phải trả thu nhập cho Nhà đầu tư | D52: N | E52: Quỹ nào có chia cổ tức mới trình bày
...

Sheet BCThuNhap_06203
A1: Mẫu số B01g - QM. Báo cáo thu nhập Template B01g - QM. Statement of Comprehensive Income
A2: (Ban hành kèm theo Thông tư 198/2012/TT-BTC ngày 15 tháng 11 năm 2012 về chế độ kế toán áp dụng đối với quỹ mở) (Issued in association with Circular 198/2012/TT-BTC dated 15 Nov 2012 on the Accounting Policies for Open-Ended Fund)
A3: BÁO CÁO THU NHẬP STATEMENT OF COMPREHENSIVE INCOME
A5: Tháng 09 năm 2026/ September 2026
A7: Tên Quỹ: | B7: Quỹ đầu tư trái phiếu lợi tức cao HD
A8: Fund name: | B8: HD High Yield Bond Fund (HDBond)
A9: Tên Công ty quản lý quỹ: | B9: Công Ty Cổ Phần Quản Lý Quỹ HD
A10: Fund Management Company: | B10: HD Capital Joint Stock Company
A11: Tên ngân hàng giám sát: | B11: Ngân hàng TMCP Đầu tư và Phát triển Việt Nam Chi nhánh Nam Kỳ Khởi Nghĩa
A12: Supervising bank: | B12: Bank for Investment and Development of VietNam JSC - Nam Ky Khoi Nghia Branch
A13: Ngày lập báo cáo: | B13: Ngày 06 tháng 10 năm 2026
A14: Reporting Date: | B14: 46301
A16: Chỉ tiêu Indicator | B16: Mã số Code | C16: Thuyết minh Note | D16: Năm 2026 Year 2026 | F16: Năm 2025 Year 2025
D17: Tháng 09 năm 2026 September 2026 | E17: Số lũy kế Year-to-date | F17: Tháng 09 năm 2025 September 2025 | G17: Số lũy kế Year-to-date
A18: I. THU NHẬP, DOANH THU HOẠT ĐỘNG ĐẦU TƯ Investment income | B18: 01 | D18: -530784065 | E18: 548726003 | F18: 263148560 | G18: 3815857669
A19: 1.1. Cổ tức, trái tức được chia Dividend, bond interest received | B19: 02 | D19: 334946294 | E19: 3348066789 | F19: 354556710 | G19: 2599274399
A20: Cổ tức được nhận Dividend received | B20: 02.1 | D20: 0 | E20: 118000000 | F20: 30000000 | G20: 92000000
A21: Trái tức được nhận Coupon received | B21: 02.2 | D21: 334946294 | E21: 3230066789 | F21: 324556710 | G21: 2507274399
A22: 1.2. Tiền lãi được nhận Interest income | B22: 03 | D22: 2797897 | E22: 23264710 | F22: 2589348 | G22: 395737132
A23: Tiền lãi tiền gửi được nhận Bank Deposit Interest received | B23: 03.1 | D23: 2797897 | E23: 23264710 | F23: 2589348 | G23: 6801514
A24: Lãi chứng chỉ tiền gửi Interest income from Certificate of Deposit | B24: 03.2 | D24: 0 | E24: 0 | F24: 0 | G24: 388935618
A25: 1.3. Lãi (lỗ) bán các khoản đầu tư Realized gain (losses) from disposal investments | B25: 04 | D25: 0 | E25: 176139983 | F25: 10600000 | G25: 328704732
A26: 1.4. Chênh lệch tăng, giảm đánh giá lại các khoản đầu tư chưa thực hiện Unrealized gain (losses) from investment revaluation | B26: 05 | D26: -868528256 | E26: -2998745479 | F26: -104597498 | G26: 492141406
A27: 1.5. Doanh thu khác Other income | B27: 06 | D27: 0 | E27: 0 | F27: 0 | G27: 0
A28: 1.6. Chênh lệch lãi, lỗ tỷ giá hối đoái đã và chưa thực hiện Realized and unrealized gain (losses) from foreign exchange | B28: 07 | D28: 0 | E28: 0 | F28: 0 | G28: 0
A29: 1.7. Doanh thu khác về đầu tư Other investment income | B29: 08 | D29: 0 | E29: 0 | F29: 0 | G29: 0
... A32: 2.1. Chi phí giao dịch mua, bán các khoản đầu tư Expense for purchasing and selling investments | B32: 11 | D32: 0 | E32: 3362863 | F32: 4617000 | G32: 54459925
A33: Phí môi giới Brokerage fee | B33: 11.1 | D33: 0 | E33: 3362863 | F33: 4617000 | G33: 54459925
A34: Chi phí thanh toán bù trừ Clearing settlement fee | B34: 11.2 | D34: 0 | E34: 0 | F34: 0 | G34: 0
A35: 2.2. Chi phí dự phòng nợ phải thu khó đòi và xử lý tổn thất phải thu khó đòi Provision expense | B35: 12 | D35: 0 | E35: 0 | F35: 0 | G35: 0
A36: 2.3. Chi phí lãi vay Borrowing interest expense | B36: 13 | D36: 0 | E36: 0 | F36: 0 | G36: 0
A37: 2.4. Chi phí dự phòng giảm giá tài sản nhận thế chấp và xử lý tổn thất các khoản đầu tư cho vay có tài sản nhận thế chấp Impairment expense for devaluation of assets received as pledge | B37: 14 | D37: 0 | E37: 0 | F37: 0 | G37: 0
A38: 2.5. Chi phí đầu tư khác Other investments expense | B38: 15 | D38: 0 | E38: 0 | F38: 0 | G38: 0
A39: III. CHI PHÍ HOẠT ĐỘNG CỦA QUỸ OPERATING EXPENSE | B39: 20 | D39: 109763072 | E39: 998360963 | F39: 109459158 | G39: 976059347
A40: 3.1. Phí quản lý Quỹ mở Management fee | B40: 20.1 | D40: 42242125 | E40: 386711953 | F40: 41556773 | G40: 371267685
A41: 3.2. Phí dịch vụ lưu ký tài sản Quỹ mở Custodian fee | B41: 20.2 | D41: 15188227 | E41: 137224152 | F41: 16078579 | G41: 140665020
A42: Phí dịch vụ lưu ký - bảo quản tài sản Custodian service - Custody Fee | B42: 20.2.1 | D42: 15000000 | E42: 135000000 | F42: 15000000 | G42: 136403226
A43: Phí dịch vụ lưu ký - giao dịch chứng khoán Custodian service - Transaction fee | B43: 20.2.2 | D43: 0 | E43: 700000 | F43: 900000 | G43: 3010000
A44: Phí dịch vụ lưu ký - phí VSDC Custodian service - VSDC fee | B44: 20.2.3 | D44: 188227 | E44: 1524152 | F44: 178579 | G44: 1251794
A45: 3.3. Phí dịch vụ giám sát Supervising fee | B45: 20.3 | D45: 5500000 | E45: 49500000 | F45: 5500000 | G45: 49500000
...

Sheet BCTinhHinhTaiChinh_06105
A1: Mẫu số B02g - QM. Báo cáo tình hình tài chính Template B02g - QM. Statement of Financial Position
A2: (Ban hành kèm theo Thông tư 198/2012/TT-BTC ngày 15 tháng 11 năm 2012 về chế độ kế toán áp dụng đối với quỹ mở) (Issued in association with Circular 198/2012/TT-BTC dated 15 Nov 2012 on the Accounting Policies for Open-Ended Fund)
A3: BÁO CÁO TÌNH HÌNH TÀI CHÍNH STATEMENT OF FINANCIAL POSITION
A5: Tại ngày 30 tháng 09 năm 2026/As at September 30 2026
A7: Tên Quỹ: | B7: Quỹ đầu tư trái phiếu lợi tức cao HD
A8: Fund name: | B8: HD High Yield Bond Fund (HDBond)
A9: Tên Công ty quản lý quỹ: | B9: Công Ty Cổ Phần Quản Lý Quỹ HD
A10: Fund Management Company: | B10: HD Capital Joint Stock Company
A11: Tên ngân hàng giám sát: | B11: Ngân hàng TMCP Đầu tư và Phát triển Việt Nam Chi nhánh Nam Kỳ Khởi Nghĩa
A12: Supervising bank: | B12: Bank for Investment and Development of VietNam JSC - Nam Ky Khoi Nghia Branch
A13: Ngày lập báo cáo: | B13: Ngày 06 tháng 10 năm 2026
A14: Reporting Date: | B14: 46301
A16: Chỉ tiêu Indicator | B16: Mã số Code | C16: Thuyết minh Note | D16: Ngày 30 tháng 09 năm 2026 As at September 30 2026 | E16: Ngày 31 tháng 08 năm 2026 As at August 31 2026 | I16: Ngày 28 tháng 02 năm 2019 As at 28 February 2019
A17: I. TÀI SẢN ASSETS
A18: 1.Tiền gửi ngân hàng và tương đương tiền Cash at bank and cash equivalent | B18: 110 | D18: 7101751281 | E18: 6994009457 | I18: 29799258648 | J18: 729768413
A19: 1.1. Tiền gửi ngân hàng cho hoạt động của Quỹ mở Cash at bank for Fund's operation | B19: 111 | D19: 401751281 | E19: 294009457 | I19: 9361428215 | J19: 611101479
A20: Tiền gửi của nhà đầu tư cho hoạt động mua chứng chỉ quỹ Cash at bank for Fund's subscription | B20: 111.1 | D20: 12966627 | E20: 23959660
A21: Tiền phải trả cho Nhà đầu tư về mua lại chứng chỉ quỹ Cash at bank for Fund's redemption | B21: 111.2 | D21: 6128199 | E21: 6037760
A22: Tiền gửi ngân hàng cho hoạt động của Quỹ Cash at bank for Fund's operation | B22: 111.3 | D22: 382656455 | E22: 264012037
A23: 1.2. Tiền gửi có kỳ hạn dưới 3 tháng Term deposit less than 3 months | B23: 112 | D23: 6700000000 | E23: 6700000000 | I23: 20437830433 | J23: 118666934
A24: 2. Các khoản đầu tư thuần Investment | B24: 120 | D24: 46507785019 | E24: 47376313275 | I24: 46113652000 | J24: -267466000
A25: 2.1. Các khoản đầu tư Investments | B25: 121 | D25: 46507785019 | E25: 47376313275 | I25: 46113652000 | J25: -267466000
A26: Cổ phiếu niêm yết Listed shares | B26: 121.1 | D26: 6447943000 | E26: 6849207500 | I26: 43113652000 | J26: -267466000
A27: Cổ phiếu chưa niêm yết Unlisted shares | B27: 121.2 | D27: 0 | E27: 0 | I27: 0
A28: Trái phiếu Bonds | B28: 121.3 | D28: 40059842019 | E28: 40527105775 | I28: 0 | J28: 0
A29: Hợp đồng tiền gửi có kỳ hạn trên ba (03) tháng Deposit with term over three (03) months | B29: 121.4 | D29: 0 | E29: 0 | I29: 3000000000 | J29: 0
A30: Chứng chỉ tiền gửi ghi danh Registered Deposit Certificate | B30: 121.5 | D30: 0 | E30: 0 | I30: 0 | J30: 0
A31: Quyền mua chứng khoán Investments - Rights | B31: 121.6 | D31: 0 | E31: 0 | I31: 0 | J31: 0
A32: 2.2. Dự phòng giảm giá tài sản nhận thế chấp Impairment of devaluation of assets as pledge | B32: 122 | D32: 0 | E32: 0 | I32: 0 | J32: 0
A33: 3. Các khoản phải thu Receivables | B33: 130 | D33: 423461878 | E33: 473009855 | I33: 473787186 | J33: -61449754
A34: 3.1 Phải thu về bán các khoản đầu tư Receivables from investments sold but not yet settled | B34: 131 | D34: 0 | E34: 0 | I34: 285571000 | J34: -58238511
A35: 3.2. Phải thu và dự thu cổ tức, tiền lãi các khoản đầu tư Dividend and interest receivables | B35: 133 | D35: 423461878 | E35: 473009855 | I35: 188216186 | J35: -3211243
A36: Phải thu cổ tức, tiền lãi đến ngày nhận Dividend and interest receivables | B36: 134 | D36: 0 | E36: 0 | I36: 0 | J36: 0
A37: Trong đó: Phải thu khó đòi về cổ tức, tiền lãi đến ngày nhận nhưng chưa nhận được In which: Overdue receivables from dividend, interest income | B37: 135 | D37: 0 | E37: 0 | J37: 0
A38: Dự thu cổ tức, tiền lãi chưa đến ngày nhận Accrual dividend, interest income | B38: 136 | D38: 423461878 | E38: 473009855 | I38: 188216186 | J38: -3211243
A39: Phải thu cổ tức Dividend receivable | B39: 136.1 | D39: 0 | E39: 93000000 | I39: 0 | J39: 0
A40: Phải thu lãi tiền gửi có kỳ hạn Interest receivable from term deposit | B40: 136.2 | D40: 550685 | E40: 367123 | I40: 188216186 | J40: -3211243
A41: Phải thu lãi chứng chỉ tiền gửi ghi danh Interest receivable from registered Deposit Certificate | B41: 136.3 | D41: 0 | E41: 0 | I41: 0 | J41: 0
A42: Phải thu trái tức Coupond receivable | B42: 136.4 | D42: 422911193 | E42: 379642732 | I42: 0 | J42: 0
A43: Phải thu lãi hợp đồng mua lại đảo ngược Interest receivable from reverse repo contract | B43: 136.5 | D43: 0 | E43: 0 | I43: 0 | J43: 0
...

Sheet BCTaiSan_06027
A1: Phụ lục XXVI. Mẫu báo cáo về hoạt động của Quỹ Appendix XXVI. Report on Fund's Operation | H1: ok
A2: (Ban hành kèm theo Thông tư số 98/2020/TT-BTC ngày 16 tháng 11 năm 2020 của Bộ trưởng Bộ Tài Chính về hướng dẫn hoạt động và quản lý quỹ đầu tư chứng khoán (Issued in association with Circular 98/2020/TT-BTC dated 16 November 2020 of the Minister of Finance on guiding the operation and management of the securities investment funds
A3: BÁO CÁO HOẠT ĐỘNG ĐẦU TƯ CỦA QUỸ MỞ REPORT ON FUND'S INVESTMENT ACTIVITIES
A5: Tại ngày 30 tháng 09 năm 2026/As at September 30 2026
A7: Tên Quỹ: | C7: Quỹ đầu tư trái phiếu lợi tức cao HD
A8: Fund name: | C8: HD High Yield Bond Fund (HDBond)
A9: Tên Công ty quản lý quỹ: | C9: Công Ty Cổ Phần Quản Lý Quỹ HD
A10: Fund Management Company: | C10: HD Capital Joint Stock Company
A11: Tên ngân hàng giám sát: | C11: Ngân hàng TMCP Đầu tư và Phát triển Việt Nam CN Nam Kỳ Khởi Nghĩa
A12: Supervising bank: | C12: Bank for Investment and Development of VietNam JSC - Nam Ky Khoi Nghia Branch
A13: Ngày lập báo cáo: | C13: Ngày 06 tháng 10 năm 2026
A14: Reporting Date: | C14: 46301
A15: A. | B15: BÁO CÁO CHUNG VỀ HOẠT ĐỘNG ĐẦU TƯ CỦA QUỸ/GENERAL INFORMATION ON FUND'S INVESTMENT ACTIVITIES
A16: I | B16: BÁO CÁO TÀI SẢN CỦA QUỸ / ASSET REPORT
A17: STT No | B17: Nội dung Indicator | C17: Mã chỉ tiêu Code | D17: Ngày 30 tháng 09 năm 2026 As at September 30 2026 | E17: Ngày 31 tháng 08 năm 2026 As at August 31 2026 | F17: %/cùng kỳ năm trước %/against last year | K17: Ngày 30 tháng 04 năm 2018 As at 30 Apr 2018
A18: I | B18: TÀI SẢN ASSETS | C18: 2200 | K18: 0
A19: I.1 | B19: Tiền và các khoản tương đương tiền Cash and Cash Equivalents | C19: 2201 | D19: 7101751281 | E19: 6994009457 | F19: 110.97376 | K19: 18924296298
B20: Tiền Cash | C20: 2202 | D20: 0 | E20: 0 | F20: 0 | K20: 0
B21: Tiền gửi ngân hàng Cash at Bank | C21: 2203 | D21: 401751281 | E21: 294009457 | F21: 28.707035 | K21: 10834088082
B22: Tiền gửi của nhà đầu tư cho hoạt động mua chứng chỉ quỹ Cash at bank for Fund's subscription | C22: 2203.1 | D22: 12966627 | E22: 23959660 | F22: 186.3457
B23: Tiền phải trả cho Nhà đầu tư về mua lại chứng chỉ quỹ Cash at bank for Fund's redemption | C23: 2203.2 | D23: 6128199 | E23: 6037760 | F23: 127.91999
B24: Tiền gửi ngân hàng cho hoạt động của Quỹ Cash at bank for Fund's operation | C24: 2203.3 | D24: 382656455 | E24: 264012037 | F24: 27.574111
B25: Các khoản tương đương tiền Cash Equivalents | C25: 2204 | D25: 6700000000 | E25: 6700000000 | F25: 134 | K25: 8090208216
A26: I.2 | B26: Các khoản đầu tư (kê chi tiết) Investments | C26: 2205 | D26: 46507785019 | E26: 47376313275 | F26: 99.946829 | K26: 54380270000
B27: Cổ phiếu niêm yết Listed shares | C27: 2205.01 | D27: 6447943000 | E27: 6849207500 | F27: 87.539056 | K27: 54104270000
B28: Cổ phiếu chưa niêm yết Unlisted shares | C28: 2205.02 | D28: 0 | E28: 0 | F28: 0 | K28: 0
B29: Trái phiếu Bonds | C29: 2205.03 | D29: 40059842019 | E29: 40527105775 | F29: 102.58451 | K29: 0
B30: Hợp đồng tiền gửi có kỳ hạn quá ba (03) tháng Deposit with term over three (03) months | C30: 2205.04 | D30: 0 | E30: 0 | F30: 0 | K30: 0
B31: Chứng chỉ tiền gửi ghi danh Registered Deposit Certificate | C31: 2205.05 | D31: 0 | E31: 0 | F31: 0 | K31: 0
B32: Quyền mua chứng khoán Investments - Rights | C32: 2205.06 | D32: 0 | E32: 0 | F32: 0 | K32: 276000000
A33: I.3 | B33: Cổ tức, trái tức được nhận Dividend, Coupon Receivables | C33: 2206 | D33: 422911193 | E33: 472642732 | F33: 86.591104 | K33: 182000000
B34: Cổ tức được nhận Dividend receivables | C34: 2206.1 | D34: 0 | E34: 93000000 | F34: 0
B35: Trái tức được nhận Coupon Receivables | C35: 2206.2 | D35: 422911193 | E35: 379642732 | F35: 92.258058
A36: I.4 | B36: Lãi được nhận Interest Receivables | C36: 2207 | D36: 550685 | E36: 367123 | F36: 160.7999 | K36: 31954902
B37: Phải thu lãi tiền gửi có kỳ hạn Interest receivable from term deposit | C37: 2207.1 | D37: 550685 | E37: 367123 | F37: 160.7999 | K37: 31954902
B38: Phải thu lãi chứng chỉ tiền gửi ghi danh Interest receivable from registered Deposit Certificate | C38: 2207.2 | D38: 0 | E38: 0 | F38: 0 | K38: 0
A39: I.5 | B39: Tiền bán chứng khoán chờ thu Securities Trading Receivables | C39: 2208 | D39: 0 | E39: 0 | F39: 0 | K39: 838678093
A40: I.6 | B40: Các khoản phải thu khác Other Receivables | C40: 2210 | D40: 0 | E40: 0 | F40: 0 | K40: 0
A41: I.7 | B41: Các tài sản khác Other Assets | C41: 2211 | D41: 0 | E41: 0 | F41: 0 | H41: checking | K41: 0
A42: I.8 | B42: TỔNG TÀI SẢN TOTAL ASSETS | C42: 2212 | D42: 54032998178 | E42: 54843332587 | F42: 101.14607 | H42: 77161857907 | I42: 76787550493 | K42: 74357199293
...

Sheet BCLCGT_06262
A1: Mẫu số B02g - QM. Báo cáo tình hình tài chính Template B02g - QM. Statement of Financial Position
A2: (Ban hành kèm theo Thông tư 198/2012/TT-BTC ngày 15 tháng 11 năm 2012 về chế độ kế toán áp dụng đối với quỹ mở) (Issued in association with Circular 198/2012/TT-BTC dated 15 Nov 2012 on the Accounting Policies for Open-Ended Fund)
A3: BÁO CÁO LƯU CHUYỂN TIỀN TỆ CASH FLOW STATEMENT
A4: =BCThuNhap_06203!A5 -> Tháng 09 năm 2026/ September 2026
A7: Tên Quỹ: | B7: Quỹ đầu tư trái phiếu lợi tức cao HD
A8: Fund name: | B8: HD High Yield Bond Fund (HDBond)
A9: Tên Công ty quản lý quỹ: | B9: Công Ty Cổ Phần Quản Lý Quỹ HD
A10: Fund Management Company: | B10: HD Capital Joint Stock Company
A11: Tên ngân hàng giám sát: | B11: NH TMCP Đầu tư và Phát triển Việt Nam Chi nhánh Nam Kỳ Khởi Nghĩa
A12: Supervising bank: | B12: Bank for Investment and Development of VietNam JSC - Nam Ky Khoi Nghia Branch
A13: Ngày lập báo cáo: | B13: =BCThuNhap_06203!B13 -> Ngày 06 tháng 10 năm 2026
A14: Reporting Date: | B14: =BCThuNhap_06203!B14 -> 46301
A17: Chỉ tiêu Indicator | B17: Mã số Code | C17: Thuyết minh Note | D17: Quý IV năm 2022 Quarter IV 2022 | E17: Quý III năm 2022 Quarter III 2022
A18: I. Lưu chuyển tiền từ hoạt động đầu tư Cash flow from investing activities | B18: I
A19: 1. Lợi nhuận trước Thuế thu nhập doanh nghiệp Profit before income tax | B19: 01 | D19: =BCThuNhap_06203!D73 -> -640547137 | E19: 1552642088
A20: 2. Điều chỉnh cho các khoản tăng giá trị tài sản ròng từ các hoạt động đầu tư Adjustment for NAV increase from investing activities | B20: 02 | D20: =+D21+D22 -> 781787991 | E20: 161602691
A21: (- Lãi) hoặc (+ lỗ) chênh lệch tỷ giá hối đoái/ đánh giá lại các khoản đầu tư chưa thực hiện Unreliased (Gain) or Loss from FX valuation/Investment revaluation | B21: 03 | D21: =-BCThuNhap_06203!D71 -> 868528256 | E21: 119385468
A22: (+) Chi phí trích trước Increase of Accrued Expenses | B22: 04 | D22: =BCTinhHinhTaiChinh_06105!D53-BCTinhHinhTaiChinh_06105!E53-(BCTinhHinhTaiChinh_06105!D58-BCTinhHinhTaiChinh_06105!E58)+BCTinhHinhTaiChinh_06105!D71-BCTinhHinhTaiChinh_06105!E71 -> -86740265 | E22: 42217223
A23: 3. Lợi nhuận từ hoạt động đầu tư trước thay đổi vốn lưu động Profit from investing activities before changes in working capital | B23: 05 | D23: =+D19+D20 -> 141240854 | E23: 1714244779
A24: (-) Tăng, (+) giảm đầu tư (Increase), Decrease Investments | B24: 20 | D24: =IF((BCTaiSan_06027!D26-BCTaiSan_06027!E26+BCLCGT_06262!D21)>0,-(BCTaiSan_06027!D26-BCTaiSan_06027!E26+BCLCGT_06262!D21),-(BCTaiSan_06027!D26-BCTaiSan_06027!E26+BCLCGT_06262!D21)) -> 0 | E24: -45936737791
A25: (-) Tăng, (+) giảm phải thu bán chứng khoán đầu tư (Increase), Decrease in Receivables from investments sold but not yet settled | B25: 06 | D25: =IF((BCTinhHinhTaiChinh_06105!D34-BCTinhHinhTaiChinh_06105!E34)>0,-(BCTinhHinhTaiChinh_06105!D34-BCTinhHinhTaiChinh_06105!E34),-(BCTinhHinhTaiChinh_06105!D34-BCTinhHinhTaiChinh_06105!E34)) -> 0 | E25: 0
A26: (-) Tăng, (+) giảm dự thu phải thu tiền lãi các khoản đầu tư (Increase), Decrease in Dividend and interest receivables | B26: 07 | D26: =IF((BCTaiSan_06027!D33-BCTaiSan_06027!E33+BCTaiSan_06027!D36-BCTaiSan_06027!E36)>0,-(BCTaiSan_06027!D33-BCTaiSan_06027!E33+BCTaiSan_06027!D36-BCTaiSan_06027!E36),-(BCTaiSan_06027!D33-BCTaiSan_06027!E33+BCTaiSan_06027!D36-BCTaiSan_06027!E36)) -> 49547977 | E26: -1008712851
A27: (-) Tăng, (+) giảm các khoản phải thu khác (Increase), Decrease in other receivables | B27: 08 | D27: =IF((BCTaiSan_06027!D40-BCTaiSan_06027!E40)>0,-(BCTaiSan_06027!D40-BCTaiSan_06027!E40),-(BCTaiSan_06027!D40-BCTaiSan_06027!E40)) -> 0 | E27: 0
A28: (+) Tăng, (-) giảm vay ngắn hạn Increase, (Decrease) in Short-term Loans | B28: 09
A29: (+) Tăng, (-) giảm phải trả cho người bán (Decrease), Increase in payables for securities purchased but not yet settled | B29: 10 | D29: =BCTaiSan_06027!D44-BCTaiSan_06027!E44 -> 0 | E29: 0
A30: (+) Tăng, (-) giảm phải trả các Đại lý phân phối Chứng chỉ quỹ, Công ty Quản lý Quỹ (Decrease)/increase in subscription and redemption fee payable to distributors and Fund Management Company | B30: 11 | D30: =BCTaiSan_06027!D49-BCTaiSan_06027!E49 -> 74194 | E30: 0
A31: (+) Tăng, (-) giảm phải trả thu nhập cho Nhà đầu tư Increase, (Decrease) in profit distribution payables to investors | B31: 12 | D31: =BCTaiSan_06027!D50-BCTaiSan_06027!E50 -> 0 | E31: 0
A32: (+) Tăng, (-) giảm Thuế và các khoản phải nộp Nhà nước Increase, (Decrease) in Tax payables and obligations to the State Budget | B32: 13 | D32: =BCTaiSan_06027!D48-BCTaiSan_06027!E48 -> 41029 | E32: 168600926
A33: (+) Tăng, (-) giảm phải trả cho Nhà đầu tư về mua Chứng chỉ quỹ Increase, (Decrease) in Subscription Payable to investors | B33: 14 | D33: =BCTaiSan_06027!D47-BCTaiSan_06027!E47 -> -10993033 | E33: -13570823
A34: (+) Tăng, (-) giảm phải trả cho Nhà đầu tư về mua lại Chứng chỉ quỹ Increase, (Decrease) in Redemption payable to investors | B34: 15 | D34: =BCTaiSan_06027!D46-BCTaiSan_06027!E46 -> 90439 | E34: 0
A35: (+) Tăng, (-) giảm phải trả, phải nộp khác Increase, (Decrease) in Other payables | B35: 16 | D35: =+BCTinhHinhTaiChinh_06105!D58-BCTinhHinhTaiChinh_06105!E58 -> 5543485 | E35: -1000000
A36: (+) Tăng, (-) giảm Phải trả dịch vụ quản lý Quỹ mở Increase, (Decrease) in Fees payable to related service providers | B36: 17 | D36: =BCTinhHinhTaiChinh_06105!D63-BCTinhHinhTaiChinh_06105!E63 -> -1307235 | E36: 37314846
A37: (+) Tăng, (-) giảm Thuế Thu nhập doanh nghiệp đã nộp Increase, (Decrease) Income Tax Payment | B37: 18 | D37: 0 | E37: 0
A38: Lưu chuyển tiền thuần từ hoạt động đầu tư (1+2+3) Net Cash flow from Investing activities | B38: 19 | D38: =+D23+D25+D26+D27+D28+D29+D30+D31+D32+D33+D34+D35+D36+D37+D24 -> 184237710 | E38: -45039860914
A39: II. Lưu chuyển tiền từ hoạt động tài chính Cash flow from financing activities | B39: II
A40: 1. Tiền thu từ phát hành Chứng chỉ quỹ mở Receipts from subscriptions | B40: 31 | D40: =BCKetQuaHoatDong_06028!D66 -> 116123156 | E40: 223673451509
A41: 2. Tiền chi mua lại Chứng chỉ quỹ mở Payments for redemptions | B41: 32 | D41: =BCKetQuaHoatDong_06028!D67 -> -192619042 | E41: -173111113500
A42: 3. Tiền vay gốc Principal of borrowings | B42: 33 | D42: 0 | E42: 0
A43: 4. Tiền chi trả nợ gốc vay Payment of Principal borrowings | B43: 34 | D43: 0 | E43: 0
A44: 5. Tiền chi trả cổ tức, tiền lãi cho nhà đầu tư Dividend, profit distribution paid to investors | B44: 35 | D44: 0 | E44: 0
...

Sheet BCKetQuaHoatDong_06028
A1: Phụ lục XXVI. Mẫu báo cáo về hoạt động của Quỹ Appendix XXVI. Report on Fund's Operation
A2: (Ban hành kèm theo Thông tư số 98/2020/TT-BTC ngày 16 tháng 11 năm 2020 của Bộ trưởng Bộ Tài Chính về hướng dẫn hoạt động và quản lý quỹ đầu tư chứng khoán (Issued in association with Circular 98/2020/TT-BTC dated 16 November 2020 of the Minister of Finance on guiding the operation and management of the securities investment funds
A3: BÁO CÁO HOẠT ĐỘNG ĐẦU TƯ CỦA QuỸ MỞ REPORT ON FUND'S INVESTMENT ACTIVITIES
A5: Tháng 09 năm 2026/ September 2026
A7: Tên Quỹ: | C7: Quỹ đầu tư trái phiếu lợi tức cao HD
A8: Fund name: | C8: HD High Yield Bond Fund (HDBond)
A9: Tên Công ty quản lý quỹ: | C9: Công Ty Cổ Phần Quản Lý Quỹ HD
A10: Fund Management Company: | C10: HD Capital Joint Stock Company
A11: Tên ngân hàng giám sát: | C11: Ngân hàng TMCP Đầu tư và Phát triển Việt Nam Chi nhánh Nam Kỳ Khởi Nghĩa
A12: Supervising bank: | C12: Bank for Investment and Development of VietNam JSC - Nam Ky Khoi Nghia Branch
A13: Ngày lập báo cáo: | C13: Ngày 06 tháng 10 năm 2026
A14: Reporting Date: | C14: 46301
A15: A. | B15: BÁO CÁO CHUNG VỀ HOẠT ĐỘNG ĐẦU TƯ CỦA QUỸ/GENERAL INFORMATION ON FUND'S INVESTMENT ACTIVITIES
A16: II | B16: BÁO CÁO KẾT QUẢ HOẠT ĐỘNG / PROFIT AND LOSS REPORT
A17: STT No | B17: Chỉ tiêu Indicator | C17: Mã chỉ tiêu Code | D17: Tháng 09 năm 2026 September 2026 | E17: Tháng 08 năm 2026 August 2026 | F17: Lũy kế từ đầu năm Accumulated from beginning of year
A18: I | B18: Thu nhập từ hoạt động đầu tư Income from Investment Activities | C18: 2220 | D18: 337744191 | E18: 464747759 | F18: 3371331499 | P18: 2220
A19: 1 | B19: Cổ tức, trái tức được nhận Dividend, Coupon received | C19: 2221 | D19: 334946294 | E19: 463418123 | F19: 3348066789 | P19: 2221
B20: Cổ tức được nhận Dividend received | C20: 2221.1 | D20: 0 | E20: 93000000 | F20: 118000000
B21: Trái tức được nhận Coupon received | C21: 2221.2 | D21: 334946294 | E21: 370418123 | F21: 3230066789
A22: 2 | B22: Lãi được nhận Income from Interest | C22: 2222 | D22: 2797897 | E22: 1329636 | F22: 23264710 | P22: 2222
A23: 3 | B23: Các khoản thu nhập khác Other income | C23: 2223 | D23: 0 | E23: 0 | F23: 0 | P23: 2223
A24: II | B24: Chi phí Expense | C24: 2224 | D24: 109763072 | E24: 112747168 | F24: 1001723826 | P24: 2224
A25: 1 | B25: Chi phí quản lý trả cho Công ty quản lý quỹ Management Fee paid to Fund Management Company | C25: 2225 | D25: 42242125 | E25: 43549360 | F25: 386711953 | P25: 2225
A26: 2 | B26: Chi phí lưu ký, giám sát trả cho Ngân hàng Giám sát/VSD Custody fee, Supervising fee paid to Supervising Bank/VSD | C26: 2226 | D26: 20688227 | E26: 20782952 | F26: 186724152 | P26: 2226
B27: Phí dịch vụ lưu ký - bảo quản tài sản Custodian service - Custody Fee | C27: 2226.1 | D27: 15000000 | E27: 15000000 | F27: 135000000 | P27: 2226.1
B28: Phí dịch vụ lưu ký - giao dịch chứng khoán Custodian service - Transaction fee | C28: 2226.2 | D28: 0 | E28: 100000 | F28: 700000 | P28: 2226.2
B29: Phí dịch vụ lưu ký tại VSDC Custodian fee at VSDC | C29: 2226.3 | D29: 188227 | E29: 182952 | F29: 1524152 | P29: 2226.3
B30: Phí giám sát Supervisory fee | C30: 2226.4 | D30: 5500000 | E30: 5500000 | F30: 49500000 | P30: 2226.4
A31: 3 | B31: Chi phí dịch vụ quản trị quỹ, chi phí dịch vụ đại lý chuyển nhượng và các chi phí khác mà công ty quản lý quỹ trả cho tổ chức cung cấp dịch vụ có liên quan Fund Administration Fee, Transfer Agency Fee, and other fee paid to relevant Fund's service providers | C31: 2227 | D31: 29700000 | E31: 29700000 | F31: 267300000 | P31: 2227
B32: Chi phí dịch vụ quản trị Quỹ Fund Administration Fee | C32: 2227.1 | D32: 16500000 | E32: 16500000 | F32: 148500000 | P32: 2227.1
B33: Chi phí dịch vụ Đại lý Chuyển nhượng Transfer Agency Fee | C33: 2227.2 | D33: 13200000 | E33: 13200000 | F33: 118800000 | P33: 2227.2
A34: 4 | B34: Chi phí kiểm toán trả cho tổ chức kiểm toán Audit fee | C34: 2228 | D34: 11539735 | E34: 11924392 | F34: 105011586 | P34: 2228
A35: 5 | B35: Chi phí dịch vụ tư vấn pháp lý, dịch vụ báo giá và các dịch vụ hợp lý khác, thù lao trả cho ban đại diện quỹ Legal consultancy expenses, price quotation fee, other valid expenses, remuneration payable to fund representative board | C35: 2229 | D35: 5543485 | E35: 5665320 | F35: 51000012 | P35: 2229
B36: Thù lao ban đại diện Quỹ Remuneration of Fund's Board of Representatives | C36: 2229.1 | D36: 5543485 | E36: 5665320 | F36: 51000012 | P36: 2229.1
B37: Chi phí cung cấp báo giá chứng khoán Price feed fee Expenses | C37: 2229.2 | D37: 0 | E37: 0 | F37: 0 | P37: 2229.2
A38: 6 | B38: Chi phí dự thảo, in ấn, gửi bản cáo bạch, bản cáo bạch tóm tắt, báo cáo tài chính, xác nhận giao dịch, sao kê tài khoản và các tài liệu khác cho nhà đầu tư; chi phí công bố thông tin của quỹ; chi phí tổ chức họp đại hội nhà đầu tư, ban đại diện quỹ Fee for drafting, printing, distribution of prospectus, summarised propectus, financial statements, transaction confirmations, account statements and other documents to investors; information disclosure fee; fee for organising annual general meeting, board of representatives meeting | C38: 2230 | D38: 0 | E38: 0 | F38: 0 | P38: 2230
B39: Chi phí họp Đại hội Quỹ Meeting expense | C39: 2230.1 | D39: 0 | E39: 0 | F39: 0 | P39: 2230.1
B40: Phí báo cáo thường niên Annual report expense | C40: 2230.2 | D40: 0 | E40: 0 | F40: 0 | P40: 2230.2
B41: Chi phí họp, công tác của ban đại diện Fund's Board of Representatives meeting, travelling expense | C41: 2230.3 | D41: 0 | E41: 0 | F41: 0 | P41: 2230.3
B42: Chi phí công bố thông tin của Quỹ Expenses for information disclosure of the Fund | C42: 2230.4 | D42: 0 | E42: 0 | F42: 0 | P42: 2230.4
...

Sheet BCDanhMucDauTu_06029
A1: Phụ lục XXVI. Mẫu báo cáo về hoạt động của Quỹ Appendix XXVI. Report on Fund's Operation
A2: (Ban hành kèm theo Thông tư số 98/2020/TT-BTC ngày 16 tháng 11 năm 2020 của Bộ trưởng Bộ Tài Chính về hướng dẫn hoạt động và quản lý quỹ đầu tư chứng khoán (Issued in association with Circular 98/2020/TT-BTC dated 16 November 2020 of the Minister of Finance on guiding the operation and management of the securities investment funds)
A3: BÁO CÁO HOẠT ĐỘNG ĐẦU TƯ CỦA QUỸ MỞ REPORT ON FUND'S INVESTMENT ACTIVITIES
A5: Tại ngày 30 tháng 09 năm 2026/As at September 30 2026
A7: Tên Quỹ: | C7: Quỹ đầu tư trái phiếu lợi tức cao HD
A8: Fund name: | C8: HD High Yield Bond Fund (HDBond)
A9: Tên Công ty quản lý quỹ: | C9: Công Ty Cổ Phần Quản Lý Quỹ HD
A10: Fund Management Company: | C10: HD Capital Joint Stock Company
A11: Tên ngân hàng giám sát: | C11: Ngân hàng TMCP Đầu tư và Phát triển Việt Nam Chi nhánh Nam Kỳ Khởi Nghĩa
A12: Supervising bank: | C12: Bank for Investment and Development of VietNam JSC - Nam Ky Khoi Nghia Branch
A13: Ngày lập báo cáo: | C13: Ngày 06 tháng 10 năm 2026
A14: Reporting Date: | C14: 46301
A15: A. | B15: BÁO CÁO CHUNG VỀ HOẠT ĐỘNG ĐẦU TƯ CỦA QUỸ/GENERAL INFORMATION ON FUND'S INVESTMENT ACTIVITIES
A16: III | B16: BÁO CÁO VỀ TÌNH HÌNH DANH MỤC ĐẦU TƯ CỦA QUỸ / INVESTMENT PORTFOLIO REPORT
A17: STT/No. | B17: Loại Category | C17: Mã chỉ tiêu Code | D17: Số Lượng Quantity | E17: Giá thị trường hoặc giá trị hợp lý tại ngày báo cáo Market price | F17: Tổng giá trị (Đồng) Value (VND) | G17: Tỷ lệ % Tổng giá trị tài sản của Quỹ % of total asset
A18: I | B18: CỔ PHIẾU NIÊM YẾT LISTED EQUITY | C18: 2246
B19: EIB | C19: 2246.1 | D19: 10000 | E19: 17050 | F19: 170500000 | G19: 0.0031554792
B20: HHV | C20: 2246.2 | D20: 57750 | E20: 9060 | F20: 523215000 | G20: 0.0096832495
B21: HSG | C21: 2246.3 | D21: 161200 | E21: 10000 | F21: 1612000000 | G21: 0.029833621
B22: KBC | C22: 2246.4 | D22: 10000 | E22: 25400 | F22: 254000000 | G22: 0.0047008311
B23: MBS | C23: 2246.5 | D23: 69000 | E23: 15600 | F23: 1076400000 | G23: 0.01992116
B24: MSN | C24: 2246.6 | D24: 5000 | E24: 69000 | F24: 345000000 | G24: 0.0063849872
B25: SSI | C25: 2246.7 | D25: 28800 | E25: 20100 | F25: 578880000 | G25: 0.010713453
B26: VIX | C26: 2246.8 | D26: 33600 | E26: 12300 | F26: 413280000 | G26: 0.0076486594
B27: VPB | C27: 2246.9 | D27: 63020 | E27: 23400 | F27: 1474668000 | G27: 0.027291989
B28: TỔNG TOTAL | C28: 2247 | D28: 438370 | E28: 0 | F28: 6447943000 | G28: 0.11933343
A29: II | B29: CỔ PHIẾU CHƯA NIÊM YẾT UNLISTED EQUITY | C29: 2248 | D29: 0 | E29: 0 | F29: 0
B30: TỔNG TOTAL | C30: 2249 | D30: 0 | F30: 0 | G30: =+F30/$F$68 -> 0
B31: TỔNG CÁC LOẠI CỔ PHIẾU TOTAL | C31: 2250 | D31: 438370 | F31: 6447943000 | G31: 0.11933343
A32: III | B32: TRÁI PHIẾU BONDS | C32: 2251
A33: 1 | B33: Trái phiếu niêm yết Listed bond | C33: 2251.1
C34: 2251.1 | G34: =+F34/$F$68 -> 0
C35: 2251.1 | G35: =+F35/$F$68 -> 0
C36: 2251.1 | G36: =+F36/$F$68 -> 0
C37: 2251.1 | G37: =+F37/$F$68 -> 0
B38: BAF126003 | C38: 2251.1.1 | D38: 11 | E38: 100120529 | F38: 1101325819 | G38: 0.020382467
B39: CII425021 | C39: 2251.1.2 | D39: 38300 | E39: 109438 | F39: 4191475400 | G39: 0.077572512
B40: CII426028 | C40: 2251.1.3 | D40: 16720 | E40: 93765 | F40: 1567750800 | G40: 0.029014692
B41: CMX123035 | C41: 2251.1.4 | D41: 70000 | E41: 100890 | F41: 7062300000 | G41: 0.13070346
B42: MSN123008 | C42: 2251.1.5 | D42: 50000 | E42: 100719 | F42: 5035950000 | G42: 0.09320138
...

Sheet BCHoatDongVay_06026
A1: Phụ lục XXVI. Mẫu báo cáo về hoạt động của Quỹ Appendix XXVI. Report on Fund's Operation
A2: (Ban hành kèm theo Thông tư số 98/2020/TT-BTC ngày 16 tháng 11 năm 2020 của Bộ trưởng Bộ Tài Chính về hướng dẫn hoạt động và quản lý quỹ đầu tư chứng khoán (Issued in association with Circular 98/2020/TT-BTC dated 16 November 2020 of the Minister of Finance on guiding the operation and management of the securities investment funds)
A3: BÁO CÁO HOẠT ĐỘNG ĐẦU TƯ CỦA QUỸ MỞ REPORT ON FUND'S INVESTMENT ACTIVITIES
A4: Tháng 09 năm 2026/ September 2026
A6: Tên Quỹ: | G6: Quỹ đầu tư trái phiếu lợi tức cao HD
A7: Fund name: | G7: HD High Yield Bond Fund (HDBond)
A8: Tên Công ty quản lý quỹ: | G8: Công Ty Cổ Phần Quản Lý Quỹ HD
A9: Fund Management Company: | G9: HD Capital Joint Stock Company
A10: Tên ngân hàng giám sát: | G10: Ngân hàng TMCP Đầu tư và Phát triển Việt Nam Chi nhánh Nam Kỳ Khởi Nghĩa
A11: Supervising bank: | G11: Bank for Investment and Development of VietNam JSC - Nam Ky Khoi Nghia Branch
A12: Ngày lập báo cáo: | G12: Ngày 06 tháng 10 năm 2026
A13: Reporting Date: | G13: 46301
A14: A. | B14: BÁO CÁO CHUNG VỀ HOẠT ĐỘNG ĐẦU TƯ CỦA QUỸ/GENERAL INFORMATION ON FUND'S INVESTMENT ACTIVITIES
A15: IV | B15: BÁO CÁO HOẠT ĐỘNG VAY, GIAO DỊCH MUA BÁN LẠI / REPORT ON BORROWING OPERATION, REPO/REVERSE REPO TRANSACTIONS
A16: STT No. | B16: Nội dung hoạt động (nêu chi tiết theo mục tiêu và đối tác) Description | C16: Mã chỉ tiêu Code | D16: Đối tác Counterparty | E16: Mục tiêu/Tài sản đảm bảo Collateral | F16: Kỳ hạn Term | G16: Giá trị khoản vay hoặc khoản cho vay Amount | H16: Thời điểm giao dịch As at transaction date | J16: Thời điểm báo cáo As at reporting date
H17: Ngày tháng năm Date | I17: Tỷ lệ giá trị hợp đồng/giá trị tài sản ròng của quỹ Balance/NAV | J17: Ngày tháng năm Date | K17: Tỷ lệ giá trị hợp đồng/giá trị tài sản ròng của quỹ Balance/NAV
A18: 1 | B18: Các khoản vay tiền (nêu chi tiết từng hợp đồng) Borrowings (detail by each contract) | C18: 2287
A19: I | B19: Tổng giá trị các khoản vay tiền/giá trị tài sản ròng Borrowings/NAV | C19: 2288
A20: 2 | B20: Hợp đồng Repo (nêu chi tiết từng hợp đồng) Repo contract (detail by each contract) | C20: 2289
A21: II | B21: Tổng giá trị các hợp đồng Repo/giá trị tài sản ròng Total value of Repo contracts/NAV | C21: 2290
A22: A | B22: Tổng giá trị các khoản vay/giá trị tài sản ròng (=I+II) Total Borrowings, Repo/NAV (=I+II) | C22: 2291
A23: 3 | B23: Cho vay chứng khoán (nêu chi tiết từng hợp đồng) Securities lending (detail by each contract) | C23: 2292
A24: III | B24: Tổng giá trị các hợp đồng/giá trị tài sản ròng Total contract value/NAV | C24: 2293
A25: 4 | B25: Hợp đồng Reverse Repo (nêu chi tiết từng hợp đồng) Reverse Repo contract (Detail by each contract) | C25: 2295
A26: IV | B26: Tổng giá trị các hợp đồng/giá trị tài sản ròng Total contract value/NAV | C26: 2296
A27: B | B27: Tổng giá trị các khoản cho vay/giá trị tài sản ròng (=III + IV) Total Loans/NAV (=III + IV) | C27: 2297
A30: * Ghi chú: kỳ báo cáo không phát sinh
A32: Đại diện có thẩm quyền của Ngân hàng giám sát | I32: Đại diện có thẩm quyền của Công ty quản lý Quỹ
A33: Authorised Representative of Supervisory Bank | I33: Authorised Representative of Fund Management Company
A44: Ngân hàng TMCP Đầu tư và Phát triển Việt Nam Chi nhánh Nam Kỳ Khởi Nghĩa | I44: Công Ty Cổ Phần Quản Lý Quỹ HD
A45: Nguyễn Thị Minh Châu | I45: Nguyễn Thành Long
A46: Phó giám đốc chi nhánh | I46: Tổng Giám Đốc

Sheet Khac_06030
A1: Phụ lục XXVI. Mẫu báo cáo về hoạt động của Quỹ Appendix XXVI. Report on Fund's Operation
A2: (Ban hành kèm theo Thông tư số 98/2020/TT-BTC ngày 16 tháng 11 năm 2020 của Bộ trưởng Bộ Tài Chính về hướng dẫn hoạt động và quản lý quỹ đầu tư chứng khoán (Issued in association with Circular 98/2020/TT-BTC dated 16 November 2020 of the Minister of Finance on guiding the operation and management of the securities investment funds)
A3: BÁO CÁO HOẠT ĐỘNG ĐẦU TƯ CỦA QUỸ MỞ REPORT ON FUND'S INVESTMENT ACTIVITIES
A5: Tháng 09 năm 2026/ September 2026
A7: Tên Quỹ: | C7: Quỹ đầu tư trái phiếu lợi tức cao HD
A8: Fund name: | C8: HD High Yield Bond Fund (HDBond)
A9: Tên Công ty quản lý quỹ: | C9: Công Ty Cổ Phần Quản Lý Quỹ HD
A10: Fund Management Company | C10: HD Capital Joint Stock Company
A11: Tên ngân hàng giám sát: | C11: Ngân hàng TMCP Đầu tư và Phát triển Việt Nam Chi nhánh Nam Kỳ Khởi Nghĩa
A12: Supervising bank: | C12: Bank for Investment and Development of VietNam JSC - Nam Ky Khoi Nghia Branch
A13: Ngày lập báo cáo: | C13: Ngày 06 tháng 10 năm 2026
A14: Reporting Date: | C14: 46301
A15: A. | B15: BÁO CÁO CHUNG VỀ HOẠT ĐỘNG ĐẦU TƯ CỦA QUỸ/GENERAL INFORMATION ON FUND'S INVESTMENT ACTIVITIES
A16: V | B16: MỘT SỐ CHỈ TIÊU KHÁC / OTHER INDICATORS
A17: STT/No. | B17: Chỉ tiêu/Indicators | C17: Mã chỉ tiêu/Code | D17: Tháng 09 năm 2026 September 2026 | E17: Tháng 08 năm 2026 August 2026
A18: I | B18: CÁC CHỈ TIÊU VỀ HIỆU QUẢ HOẠT ĐỘNG INVESTMENT PERFORMANCE INDICATORS | C18: 2264
A19: 1 | B19: Tỷ lệ giá dịch vụ quản lý quỹ trả cho công ty quản lý quỹ/Giá trị tài sản ròng trung bình trong kỳ (%) Management fee paid to the fund management company/Average NAV (%) | C19: 2265 | D19: 0.009363688 | E19: 0.0096910394
A20: 2 | B20: Tỷ lệ giá dịch vụ lưu ký, giám sát trả cho Ngân hàng Giám sát/Giá trị tài sản ròng trung bình trong kỳ (%) Custody and supervising fees paid to the Supervisory Bank/Average NAV (%) | C20: 2266 | D20: 0.0045858986 | E20: 0.0046248305
A21: 3 | B21: Tỷ lệ chi phí dịch vụ quản trị quỹ, và các chi phí khác mà công ty quản lý quỹ trả cho tổ chức cung cấp dịch vụ có liên quan/Giá trị tài sản ròng của quỹ trung bình trong kỳ (%) Fund admin fee, and other fees paid to relating services providers by the fund management company/Average NAV (%) | C21: 22661 | D21: 0.0065835119 | E21: 0.0066091412
A22: 4 | B22: Chi phí kiểm toán trả cho tổ chức kiểm toán (nếu phát sinh) / Giá trị tài sản ròng trung bình trong kỳ (%) Audit fee expense over average NAV ratio (%) | C22: 2267 | D22: 0.0025579792 | E22: 0.002653535
A23: 5 | B23: Chi phí dịch vụ tư vấn pháp lý, dịch vụ báo giá và các dịch vụ hợp lý khác, thù lao trả cho ban đại diện quỹ / Giá trị tài sản ròng trung bình trong kỳ (%) Legal consultancy, OTC price quotation and other valid service fees; Board of Representatives' remuneration expense over average NAV ratio (%) | C23: 2268 | D23: 0.0012288081 | E23: 0.0012607037
A24: 6 | B24: Tỷ lệ chi phí /Giá trị tài sản ròng trung bình trong kỳ (%) Expense/Average NAV (%) | C24: 2269 | D24: 0.024330858 | E24: 0.025089628
A25: 7 | B25: Tốc độ vòng quay danh mục trong kỳ (%) = (Tổng giá trị mua vào + tổng giá trị bán ra) x 100%/ (2 x Giá trị tài sản ròng trung bình trong kỳ) Portfolio turnover rate (%) = (Total value of purchase transactions + total value of sales transactions) x 100%/ (2 x Average NAV) (**) | C25: 2270 | D25: 0 | E25: 0.53393111 | F25: 0
A26: II | B26: CÁC CHỈ TIÊU KHÁC OTHER INDICATORS | C26: 2272
A27: 1 | B27: Quy mô quỹ đầu kỳ (tính theo mệnh giá chứng chỉ quỹ) Fund scale at the beginning of the period (based on par value of fund certificate) | C27: 2273 | D27: 4.4427802e+10 | E27: 4.4438698e+10
B28: Tổng giá trị chứng chỉ quỹ đang lưu hành đầu kỳ Total value of outstanding Fund Certificate at the beginning of period | C28: 2274 | D28: 4.4427802e+10 | E28: 4.4438698e+10
B29: Tổng số lượng đơn vị quỹ đang lưu hành đầu kỳ Total number of outstanding Fund Certificate at the beginning of period | C29: 2275 | D29: 4442780.2 | E29: 4443869.8
A30: 2 | B30: Thay đổi quy mô quỹ trong kỳ (tính theo mệnh giá chứng chỉ quỹ) Change of Fund scale during the period (based on par value of fund certificate) | C30: 2276 | D30: -62726200 | E30: -10895900
B31: Thay đổi số lượng chứng chỉ quỹ trong kỳ Change of Number of Fund Certificates during the period | C31: 2276.1 | D31: -6272.62 | E31: -1089.59
B32: Thay đổi giá trị vốn trong kỳ (theo mệnh giá) Change in capital amount during the period (based on par value) | C32: 2276.2 | D32: -62726200 | E32: -10895900
B33: Số lượng đơn vị quỹ phát hành thêm trong kỳ Number of Fund Certificates subscribed during the period | C33: 2277 | D33: 9531.75 | E33: 11011.7
B34: Giá trị vốn huy động thêm trong kỳ (theo mệnh giá) Net subscription amount in period (based on par value) | C34: 2278 | D34: 95317500 | E34: 110117000
B35: Số lượng đơn vị quỹ mua lại trong kỳ Number of Fund Certificates redeemed during the period | C35: 22781 | D35: -15804.37 | E35: -12101.29
B36: Giá trị vốn phải thanh toán trong kỳ khi đáp ứng lệnh của nhà đầu tư (theo mệnh giá) Net redemption amount in period (based on par value) | C36: 22782 | D36: -158043700 | E36: -1.210129e+08
A37: 3 | B37: Quy mô quỹ cuối kỳ (tính theo mệnh giá chứng chỉ quỹ) Fund scale at the end of the period (based on par value of fund unit) | C37: 2279 | D37: 4.4365076e+10 | E37: 4.4427802e+10
B38: Tổng giá trị chứng chỉ quỹ đang lưu hành cuối kỳ Total value of outstanding Fund Certificate at the end of the period | C38: 2280 | D38: 4.4365076e+10 | E38: 4.4427802e+10
B39: Tổng số lượng đơn vị quỹ đang lưu hành cuối kỳ Total number of outstanding Fund Certificate at the end of the period | C39: 2281 | D39: 4436507.6 | E39: 4442780.2
A40: 4 | B40: Tỷ lệ nắm giữ chứng chỉ quỹ của công ty quản lý quỹ và người có liên quan cuối kỳ Fund Management Company and related parties' ownership ratio at the end of the period | C40: 2282 | D40: 1.32627e-05 | E40: 1.32439e-05
A41: 5 | B41: Tỷ lệ nắm giữ chứng chỉ quỹ của 10 nhà đầu tư lớn nhất cuối kỳ Top 10 investors' ownership ratio at the end of the period | C41: 2283 | D41: 0.93670958 | E41: 0.93536218
A42: 6 | B42: Tỷ lệ nắm giữ chứng chỉ quỹ của nhà đầu tư nước ngoài cuối kỳ Foreign investors' ownership ratio at the end of the period | C42: 2284 | D42: 0 | E42: 0
...

Sheet TB 30092015
E2: GENERAL LEDGER TRIAL BALANCE
E3: Fund | F3: VCAMBF | G3: VIET CAPITAL BALANCED FU Page : | H3: 1/2
A4: General Ledger Trail Balance To | E4: 31/10/2015 00:00 Currency VND | G4: DONG Report | H4: : SHJNA102
G5: 03/11/2015 10:57
E6: Nav Type Official | G6: Historical
A7: Account | B7: IFRS Suff Acc | D7: Maturity | E7: Description | G7: - - - - - - - - - - - - - Balance - - - | H7: - - - - - - - - - -
B8: Class | C8: Ccy | D8: Date | G8: Account Ccy | H8: Fund CcyVND
A9: 101100 | C9: VND | E9: Investment - Equities | F9: VND | G9: 27189959504 | H9: 27189959504
A10: 110100 | C10: VND | D10: 09/11/2015 | E10: Bank Deposits | F10: VND | G10: 5000000000 | H10: 5000000000
A11: 110100 | C11: VND | D11: 12/11/2015 | E11: Bank Deposits | F11: VND | G11: 7000000000 | H11: 7000000000
A12: 110100 | C12: VND | D12: 16/11/2015 | E12: Bank Deposits | F12: VND | G12: 4000000000 | H12: 4000000000
A13: 110100 | C13: VND | D13: 30/12/2015 | E13: Bank Deposits | F13: VND | G13: 13000000000 | H13: 13000000000
A14: 132100 | B14: 7 | C14: VND | E14: Dividend Receivable | F14: VND | G14: 112800000 | H14: 112800000
A15: 132150 | B15: 7 | C15: VND | E15: Due From Broker - Equities | F15: VND | G15: 3088160800 | H15: 3088160800
A16: 140130 | B16: 7 | C16: VND | E16: Cash in Bank STANDARD | F16: VND | G16: 6452337403 | H16: 6452337403
E17: CHARTERED BANK VIETNAM
A18: 152190 | B18: - | C18: VND | E18: Int Accrual - Deposit | F18: VND | G18: 103038889 | H18: 103038889
A19: 161100 | B19: - | C19: VND | E19: Prov Unr P/L - Equities | F19: VND | G19: -1452309804 | H19: -1452309804
A20: 161120 | B20: - | C20: VND | E20: Prov Unr P/L - Rights | F20: VND | G20: 349680000 | H20: 349680000
A21: 212150 | B21: 7 | C21: VND | E21: Due to Broker - Equity | F21: VND | G21: -1492792250 | H21: -1492792250
A22: 212222 | B22: - | C22: VND | E22: Payable WHT Tax | F22: VND | G22: -6000000 | H22: -6000000
A23: 213103 | B23: - | C23: VND | E23: Exp Accrual - Admin Fee | F23: VND | G23: -11180000 | H23: -11180000
A24: 213105 | B24: - | C24: VND | E24: Exp Accrual - Audit Fee | F24: VND | G24: -91616438 | H24: -91616438
A25: 213107 | B25: - | C25: VND | E25: Exp Accrual - Custody Fee | F25: VND | G25: -10750000 | H25: -10750000
A26: 213108 | B26: - | C26: VND | E26: Exp Accrual - Directors Fee | F26: VND | G26: -5400000 | H26: -5400000
A27: 213110 | B27: - | C27: VND | E27: Exp Accrual - Fund Svces Fee | F27: VND | G27: -19565000 | H27: -19565000
A28: 213128 | B28: - | C28: VND | E28: Exp Accrual - Transaction Fee | F28: VND | G28: -9600000 | H28: -9600000
A29: 213129 | B29: - | C29: VND | E29: Exp Accrual - Transfer Agt Fee | F29: VND | G29: -11000000 | H29: -11000000
A30: 213154 | B30: - | C30: VND | E30: Exp Accrual - Other Expense | F30: VND | G30: -8328773 | H30: -8328773
A31: 213500 | B31: - | C31: VND | E31: Exp Accrual - Management | F31: VND | G31: -47698050 | H31: -47698050
E32: Fee
A33: 301000 | B33: - | C33: VND | E33: Capital - Subscription | F33: VND | G33: -60597958652 | H33: -60597958652
A34: 302000 | B34: - | C34: VND | E34: Capital - Redemption | F34: VND | G34: 1056863400 | H34: 1056863400
A35: 303102 | B35: - | C35: VND | E35: Unit Premium Reserve | F35: VND | G35: -191086976 | H35: -191086976
A36: 390000 | B36: - | C36: VND | E36: RETAIN EARNINGS | F36: VND | G36: 567698805 | H36: 567698805
A37: 411100 | B37: - | C37: VND | E37: R/L G/P - Equities | F37: VND | G37: -7655111543 | H37: -7655111543
A38: 431100 | B38: - | C38: VND | E38: UR/L G/P - Equities | F38: VND | G38: -1.9763784e+09 | H38: -1.9763784e+09
A39: 431120 | B39: - | C39: VND | E39: UR/L G/P - Rights | F39: VND | G39: -349680000 | H39: -349680000
A40: 441100 | B40: - | C40: VND | E40: UR/L G/FX - Equities | F40: VND | G40: -0.14 | H40: -0.14
A41: 451100 | B41: - | C41: VND | E41: Dividend Income - Equities | F41: VND | G41: -1971571000 | H41: -1971571000
...

Sheet THU NHAP
A1: Chỉ tiêu | B1: Mã số | C1: Thuyết minh | D1: Năm N | F1: Năm N-1
D2: Kỳ này | E2: Kỳ trước | F2: Kỳ này | G2: Kỳ trước
A3: I. THU NHẬP, DOANH THU HOẠT ĐỘNG ĐẦU TƯ | B3: 01 | D3: =+VLOOKUP(B3,BCThuNhap_06203!$B$18:$G$73,3,0) -> -530784065 | E3: =+VLOOKUP(B3,BCThuNhap_06203!$B$18:$G$73,4,0) -> 548726003 | F3: =+VLOOKUP(B3,BCThuNhap_06203!$B$18:$G$73,5,0) -> 263148560 | G3: =+VLOOKUP(B3,BCThuNhap_06203!$B$18:$G$73,6,0) -> 3815857669
A4: 1.1. Cổ tức được chia | B4: 02 | D4: =+VLOOKUP(B4,BCThuNhap_06203!$B$18:$G$73,3,0) -> 334946294 | E4: =+VLOOKUP(B4,BCThuNhap_06203!$B$18:$G$73,4,0) -> 3348066789 | F4: =+VLOOKUP(B4,BCThuNhap_06203!$B$18:$G$73,5,0) -> 354556710 | G4: =+VLOOKUP(B4,BCThuNhap_06203!$B$18:$G$73,6,0) -> 2599274399
A5: 1.2. Tiền lãi được nhận | B5: 03 | D5: =+VLOOKUP(B5,BCThuNhap_06203!$B$18:$G$73,3,0) -> 2797897 | E5: =+VLOOKUP(B5,BCThuNhap_06203!$B$18:$G$73,4,0) -> 23264710 | F5: =+VLOOKUP(B5,BCThuNhap_06203!$B$18:$G$73,5,0) -> 2589348 | G5: =+VLOOKUP(B5,BCThuNhap_06203!$B$18:$G$73,6,0) -> 395737132
A6: 1.3. Lãi, lỗ bán các khoản đầu tư | B6: 04 | D6: =+VLOOKUP(B6,BCThuNhap_06203!$B$18:$G$73,3,0) -> 0 | E6: =+VLOOKUP(B6,BCThuNhap_06203!$B$18:$G$73,4,0) -> 176139983 | F6: =+VLOOKUP(B6,BCThuNhap_06203!$B$18:$G$73,5,0) -> 10600000 | G6: =+VLOOKUP(B6,BCThuNhap_06203!$B$18:$G$73,6,0) -> 328704732
A7: 1.4. Chênh lệch tăng, giảm đánh giá lại các khoản đầu tư chưa thực hiện | B7: 05 | D7: =+VLOOKUP(B7,BCThuNhap_06203!$B$18:$G$73,3,0) -> -868528256 | E7: =+VLOOKUP(B7,BCThuNhap_06203!$B$18:$G$73,4,0) -> -2998745479 | F7: =+VLOOKUP(B7,BCThuNhap_06203!$B$18:$G$73,5,0) -> -104597498 | G7: =+VLOOKUP(B7,BCThuNhap_06203!$B$18:$G$73,6,0) -> 492141406
A8: 1.5. Doanh thu khác | B8: 06 | D8: =+VLOOKUP(B8,BCThuNhap_06203!$B$18:$G$73,3,0) -> 0 | E8: =+VLOOKUP(B8,BCThuNhap_06203!$B$18:$G$73,4,0) -> 0 | F8: =+VLOOKUP(B8,BCThuNhap_06203!$B$18:$G$73,5,0) -> 0 | G8: =+VLOOKUP(B8,BCThuNhap_06203!$B$18:$G$73,6,0) -> 0
A9: 1.6. Chênh lệch lãi, lỗ tỷ giá hối đoái đã và chưa thực hiện | B9: 07 | D9: =+VLOOKUP(B9,BCThuNhap_06203!$B$18:$G$73,3,0) -> 0 | E9: =+VLOOKUP(B9,BCThuNhap_06203!$B$18:$G$73,4,0) -> 0 | F9: =+VLOOKUP(B9,BCThuNhap_06203!$B$18:$G$73,5,0) -> 0 | G9: =+VLOOKUP(B9,BCThuNhap_06203!$B$18:$G$73,6,0) -> 0
A10: 1.7. Doanh thu khác về đầu tư | B10: 08 | D10: =+VLOOKUP(B10,BCThuNhap_06203!$B$18:$G$73,3,0) -> 0 | E10: =+VLOOKUP(B10,BCThuNhap_06203!$B$18:$G$73,4,0) -> 0 | F10: =+VLOOKUP(B10,BCThuNhap_06203!$B$18:$G$73,5,0) -> 0 | G10: =+VLOOKUP(B10,BCThuNhap_06203!$B$18:$G$73,6,0) -> 0
A11: 1.8. Dự phòng nợ phải thu và dự thu khó đòi về cổ tức, tiền lãi và xử lý tổn thất nợ phải thu khó đòi về cổ tức, tiền lãi | B11: 09 | D11: =+VLOOKUP(B11,BCThuNhap_06203!$B$18:$G$73,3,0) -> 0 | E11: =+VLOOKUP(B11,BCThuNhap_06203!$B$18:$G$73,4,0) -> 0 | F11: =+VLOOKUP(B11,BCThuNhap_06203!$B$18:$G$73,5,0) -> 0 | G11: =+VLOOKUP(B11,BCThuNhap_06203!$B$18:$G$73,6,0) -> 0
A12: II. CHI PHÍ ĐẦU TƯ | B12: 10 | D12: =+VLOOKUP(B12,BCThuNhap_06203!$B$18:$G$73,3,0) -> 0 | E12: =+VLOOKUP(B12,BCThuNhap_06203!$B$18:$G$73,4,0) -> 3362863 | F12: =+VLOOKUP(B12,BCThuNhap_06203!$B$18:$G$73,5,0) -> 4617000 | G12: =+VLOOKUP(B12,BCThuNhap_06203!$B$18:$G$73,6,0) -> 54459925
A13: 2.1. Chi phí giao dịch mua, bán các khoản đầu tư | B13: 11 | D13: =+VLOOKUP(B13,BCThuNhap_06203!$B$18:$G$73,3,0) -> 0 | E13: =+VLOOKUP(B13,BCThuNhap_06203!$B$18:$G$73,4,0) -> 3362863 | F13: =+VLOOKUP(B13,BCThuNhap_06203!$B$18:$G$73,5,0) -> 4617000 | G13: =+VLOOKUP(B13,BCThuNhap_06203!$B$18:$G$73,6,0) -> 54459925
A14: 2.2.Chi phí dự phòng nợ phải thu khó đòi và xử lý tổn thất phải thu khó đòi | B14: 12 | D14: =+VLOOKUP(B14,BCThuNhap_06203!$B$18:$G$73,3,0) -> 0 | E14: =+VLOOKUP(B14,BCThuNhap_06203!$B$18:$G$73,4,0) -> 0 | F14: =+VLOOKUP(B14,BCThuNhap_06203!$B$18:$G$73,5,0) -> 0 | G14: =+VLOOKUP(B14,BCThuNhap_06203!$B$18:$G$73,6,0) -> 0
... A37: VIII. LỢI NHUẬN KẾ TOÁN SAU THUẾ TNDN (41 = 30 - 40) | B37: 41 | D37: =+VLOOKUP(B37,BCThuNhap_06203!$B$18:$G$73,3,0) -> -640547137 | E37: =+VLOOKUP(B37,BCThuNhap_06203!$B$18:$G$73,4,0) -> -452997823 | F37: =+VLOOKUP(B37,BCThuNhap_06203!$B$18:$G$73,5,0) -> 149072402 | G37: =+VLOOKUP(B37,BCThuNhap_06203!$B$18:$G$73,6,0) -> 2785338397

Sheet TAI CHINH
A1: Chỉ tiêu | B1: Mã số | C1: Thuyết minh | D1: Năm N | E1: Năm N-1
A2: I. TÀI SẢN | B2: I
A3: 1.Tiền gửi ngân hàng và tương đương tiền | B3: 110 | D3: =+VLOOKUP(B3,BCTinhHinhTaiChinh_06105!$B$18:$D$87,3,0) -> 7101751281 | E3: =+VLOOKUP(B3,BCTinhHinhTaiChinh_06105!$B$18:$E$87,4,0) -> 6994009457
A4: 1.1. Tiền gửi ngân hàng cho hoạt động của Quỹ mở | B4: 111 | D4: =+VLOOKUP(B4,BCTinhHinhTaiChinh_06105!$B$18:$D$87,3,0) -> 401751281 | E4: =+VLOOKUP(B4,BCTinhHinhTaiChinh_06105!$B$18:$E$87,4,0) -> 294009457
A5: 1.2. Tiền gửi có kỳ hạn dưới 3 tháng | B5: 112 | D5: =+VLOOKUP(B5,BCTinhHinhTaiChinh_06105!$B$18:$D$87,3,0) -> 6700000000 | E5: =+VLOOKUP(B5,BCTinhHinhTaiChinh_06105!$B$18:$E$87,4,0) -> 6700000000
A6: 2. Các khoản đầu tư thuần | B6: 120 | D6: =+VLOOKUP(B6,BCTinhHinhTaiChinh_06105!$B$18:$D$87,3,0) -> 46507785019 | E6: =+VLOOKUP(B6,BCTinhHinhTaiChinh_06105!$B$18:$E$87,4,0) -> 47376313275
A7: 2.1. Các khoản đầu tư | B7: 121 | D7: =+VLOOKUP(B7,BCTinhHinhTaiChinh_06105!$B$18:$D$87,3,0) -> 46507785019 | E7: =+VLOOKUP(B7,BCTinhHinhTaiChinh_06105!$B$18:$E$87,4,0) -> 47376313275
A8: 2.2. Dự phòng giảm giá tài sản nhận thế chấp | B8: 122 | D8: =+VLOOKUP(B8,BCTinhHinhTaiChinh_06105!$B$18:$D$87,3,0) -> 0 | E8: =+VLOOKUP(B8,BCTinhHinhTaiChinh_06105!$B$18:$E$87,4,0) -> 0
A9: 3. Các khoản phải thu | B9: 130 | D9: =+VLOOKUP(B9,BCTinhHinhTaiChinh_06105!$B$18:$D$87,3,0) -> 423461878 | E9: =+VLOOKUP(B9,BCTinhHinhTaiChinh_06105!$B$18:$E$87,4,0) -> 473009855
A10: 3.1 Phải thu về bán các khoản đầu tư | B10: 131 | D10: =+VLOOKUP(B10,BCTinhHinhTaiChinh_06105!$B$18:$D$87,3,0) -> 0 | E10: =+VLOOKUP(B10,BCTinhHinhTaiChinh_06105!$B$18:$E$87,4,0) -> 0
A11: Trong đó: Phải thu khó đòi về bán các khoản đầu tư | B11: 132
A12: 3.2. Phải thu và dự thu cổ tức, tiền lãi các khoản đầu tư | B12: 133 | D12: =+VLOOKUP(B12,BCTinhHinhTaiChinh_06105!$B$18:$D$87,3,0) -> 423461878 | E12: =+VLOOKUP(B12,BCTinhHinhTaiChinh_06105!$B$18:$E$87,4,0) -> 473009855
A13: 3.2.1. Phải thu cổ tức, tiền lãi đến ngày nhận | B13: 134 | D13: =+VLOOKUP(B13,BCTinhHinhTaiChinh_06105!$B$18:$D$87,3,0) -> 0 | E13: =+VLOOKUP(B13,BCTinhHinhTaiChinh_06105!$B$18:$E$87,4,0) -> 0
A14: Trong đó: Phải thu khó đòi về cổ tức, tiền lãi đến ngày nhận nhưng chưa nhận được | B14: 135
A15: 3.2.2 Dự thu cổ tức, tiền lãi chưa đến ngày nhận | B15: 136 | D15: =+VLOOKUP(B15,BCTinhHinhTaiChinh_06105!$B$18:$D$87,3,0) -> 423461878 | E15: =+VLOOKUP(B15,BCTinhHinhTaiChinh_06105!$B$18:$E$87,4,0) -> 473009855
A16: 3.3. Các khoản phải thu khác | B16: 137 | D16: =+VLOOKUP(B16,BCTinhHinhTaiChinh_06105!$B$18:$D$87,3,0) -> 0 | E16: =+VLOOKUP(B16,BCTinhHinhTaiChinh_06105!$B$18:$E$87,4,0) -> 0
A17: 3.4. Dự phòng nợ phải thu khó đòi (*) | B17: 138 | D17: =+VLOOKUP(B17,BCTinhHinhTaiChinh_06105!$B$18:$D$87,3,0) -> 0 | E17: =+VLOOKUP(B17,BCTinhHinhTaiChinh_06105!$B$18:$E$87,4,0) -> 0
A18: TỔNG TÀI SẢN | B18: 100 | D18: =+VLOOKUP(B18,BCTinhHinhTaiChinh_06105!$B$18:$D$87,3,0) -> 54032998178 | E18: =+VLOOKUP(B18,BCTinhHinhTaiChinh_06105!$B$18:$E$87,4,0) -> 54843332587
A19: II. NỢ PHẢI TRẢ | B19: II | D19: =+VLOOKUP(B19,BCTinhHinhTaiChinh_06105!$B$18:$D$87,3,0) -> 0 | E19: =+VLOOKUP(B19,BCTinhHinhTaiChinh_06105!$B$18:$E$87,4,0) -> 0
A20: 1. Vay ngắn hạn | B20: 311 | D20: =+VLOOKUP(B20,BCTinhHinhTaiChinh_06105!$B$18:$D$87,3,0) -> 0 | E20: =+VLOOKUP(B20,BCTinhHinhTaiChinh_06105!$B$18:$E$87,4,0) -> 0
A21: 2. Phải trả về mua các khoản đầu tư | B21: 312 | D21: =+VLOOKUP(B21,BCTinhHinhTaiChinh_06105!$B$18:$D$87,3,0) -> 0 | E21: =+VLOOKUP(B21,BCTinhHinhTaiChinh_06105!$B$18:$E$87,4,0) -> 0
A22: 3. Phải trả cho các Đại lý phân phối Chứng chỉ quỹ | B22: 313 | D22: =+VLOOKUP(B22,BCTinhHinhTaiChinh_06105!$B$18:$D$87,3,0) -> 498693 | E22: =+VLOOKUP(B22,BCTinhHinhTaiChinh_06105!$B$18:$E$87,4,0) -> 424499
A23: 4. Thuế và các khoản phải nộp Nhà nước | B23: 314 | D23: =+VLOOKUP(B23,BCTinhHinhTaiChinh_06105!$B$18:$D$87,3,0) -> 183252 | E23: =+VLOOKUP(B23,BCTinhHinhTaiChinh_06105!$B$18:$E$87,4,0) -> 142223
A24: 5.Phải trả thu nhập cho Nhà đầu tư | B24: 315 | D24: =+VLOOKUP(B24,BCTinhHinhTaiChinh_06105!$B$18:$D$87,3,0) -> 0 | E24: =+VLOOKUP(B24,BCTinhHinhTaiChinh_06105!$B$18:$E$87,4,0) -> 0
A25: 6. Chi phí phải trả | B25: 316 | D25: =+VLOOKUP(B25,BCTinhHinhTaiChinh_06105!$B$18:$D$87,3,0) -> 23731598 | E25: =+VLOOKUP(B25,BCTinhHinhTaiChinh_06105!$B$18:$E$87,4,0) -> 104928378
A26: 7. Phải trả cho Nhà đầu tư về mua Chứng chỉ quỹ | B26: 317 | D26: =+VLOOKUP(B26,BCTinhHinhTaiChinh_06105!$B$18:$D$87,3,0) -> 12966627 | E26: =+VLOOKUP(B26,BCTinhHinhTaiChinh_06105!$B$18:$E$87,4,0) -> 23959660
... A45: 4. Số lượng Chứng chỉ quỹ đang lưu hành | B45: 004 | D45: =+VLOOKUP(B45,BCTinhHinhTaiChinh_06105!$B$18:$D$87,3,0) -> 4436507.6 | E45: =+VLOOKUP(B45,BCTinhHinhTaiChinh_06105!$B$18:$E$87,4,0) -> 4442780.2

Sheet LCTT
A1: Chỉ tiêu | B1: Mã số | C1: Thuyết minh | D1: Năm N | E1: Năm N-1
A2: I. Lưu chuyển tiền từ hoạt động đầu tư | B2: I
A3: 1. Lợi nhuận trước Thuế thu nhập doanh nghiệp | B3: 01 | D3: =+VLOOKUP(B3,BCLCGT_06262!$B$19:$E$64,3,0) -> -640547137 | E3: =+VLOOKUP(B3,BCLCGT_06262!$B$19:$E$64,4,0) -> 1552642088
A4: 2. Điều chỉnh cho các khoản tăng giá trị tài sản ròng từ các hoạt động đầu tư | B4: 02 | D4: =+VLOOKUP(B4,BCLCGT_06262!$B$19:$E$64,3,0) -> 781787991 | E4: =+VLOOKUP(B4,BCLCGT_06262!$B$19:$E$64,4,0) -> 161602691
A5: (- lãi) hoặc (+ lỗ) chênh lệch tỷ giá hối đoái chưa thực hiện | B5: 03 | D5: =+VLOOKUP(B5,BCLCGT_06262!$B$19:$E$64,3,0) -> 868528256 | E5: =+VLOOKUP(B5,BCLCGT_06262!$B$19:$E$64,4,0) -> 119385468
A6: (+) chi phí trích trước | B6: 04 | D6: =+VLOOKUP(B6,BCLCGT_06262!$B$19:$E$64,3,0) -> -86740265 | E6: =+VLOOKUP(B6,BCLCGT_06262!$B$19:$E$64,4,0) -> 42217223
A7: 3. Lợi nhuận từ hoạt động đầu tư trước thay đổi vốn lưu động | B7: 05 | D7: =+VLOOKUP(B7,BCLCGT_06262!$B$19:$E$64,3,0) -> 141240854 | E7: =+VLOOKUP(B7,BCLCGT_06262!$B$19:$E$64,4,0) -> 1714244779
A8: (-) Tăng, (+) giảm các khoản đầu tư | B8: 20 | D8: =+VLOOKUP(B8,BCLCGT_06262!$B$19:$E$64,3,0) -> 0 | E8: =+VLOOKUP(B8,BCLCGT_06262!$B$19:$E$64,4,0) -> -45936737791
A9: (-) Tăng, (+) giảm phải thu bán chứng khoán đầu tư | B9: 06 | D9: =+VLOOKUP(B9,BCLCGT_06262!$B$19:$E$64,3,0) -> 0 | E9: =+VLOOKUP(B9,BCLCGT_06262!$B$19:$E$64,4,0) -> 0
A10: (-) Tăng, (+) giảm dự thu phải thu tiền lãi các khoản đầu tư | B10: 07 | D10: =+VLOOKUP(B10,BCLCGT_06262!$B$19:$E$64,3,0) -> 49547977 | E10: =+VLOOKUP(B10,BCLCGT_06262!$B$19:$E$64,4,0) -> -1008712851
A11: (-) Tăng, (+) giảm các khoản phải thu khác | B11: 08 | D11: =+VLOOKUP(B11,BCLCGT_06262!$B$19:$E$64,3,0) -> 0 | E11: =+VLOOKUP(B11,BCLCGT_06262!$B$19:$E$64,4,0) -> 0
A12: (+) Tăng, (-) giảm vay ngắn hạn | B12: 09 | D12: =+VLOOKUP(B12,BCLCGT_06262!$B$19:$E$64,3,0) -> 0 | E12: =+VLOOKUP(B12,BCLCGT_06262!$B$19:$E$64,4,0) -> 0
A13: (+) Tăng, (-) giảm phải trả cho người bán | B13: 10 | D13: =+VLOOKUP(B13,BCLCGT_06262!$B$19:$E$64,3,0) -> 0 | E13: =+VLOOKUP(B13,BCLCGT_06262!$B$19:$E$64,4,0) -> 0
A14: (+) Tăng, (-) giảm phải trả các Đại lý phân phối Chứng chỉ quỹ | B14: 11 | D14: =+VLOOKUP(B14,BCLCGT_06262!$B$19:$E$64,3,0) -> 74194 | E14: =+VLOOKUP(B14,BCLCGT_06262!$B$19:$E$64,4,0) -> 0
... A42: Khác | B42: 80 | D42: =+VLOOKUP(B42,BCLCGT_06262!$B$19:$E$64,3,0) -> 0 | E42: =+VLOOKUP(B42,BCLCGT_06262!$B$19:$E$64,4,0) -> 0

Sheet TAI SAN
A1: STT | B1: Nội dung | C1: Mã chỉ tiêu | D1: Kỳ báo cáo | E1: Kỳ trước | F1: %/cùng kỳ năm trước
A2: I | B2: Tài sản | C2: 2200
A3: I.1 | B3: Tiền và các khoản tương đương tiền | C3: 2201 | D3: =BCTaiSan_06027!D19 -> 7101751281 | E3: =BCTaiSan_06027!E19 -> 6994009457 | F3: =BCTaiSan_06027!F19 -> 110.97376
B4: Tiền | C4: 2202
A5: ... | B5: ... | C5: ... | F5: ...
B6: Tiền gửi ngân hàng | C6: 2203 | D6: =BCTaiSan_06027!D21 -> 401751281 | E6: =BCTaiSan_06027!E21 -> 294009457 | F6: =BCTaiSan_06027!F21 -> 28.707035
A7: ... | B7: Các khoản tương đương tiền | C7: 2204 | D7: =BCTaiSan_06027!D25 -> 6700000000 | E7: =BCTaiSan_06027!E25 -> 6700000000 | F7: =BCTaiSan_06027!F25 -> 134
A8: I.2 | B8: Các khoản đầu tư (kê chi tiết) | C8: 2205 | D8: =BCTaiSan_06027!D26 -> 46507785019 | E8: =BCTaiSan_06027!E26 -> 47376313275 | F8: =BCTaiSan_06027!F26 -> 99.946829
A9: ... | B9: ... | C9: ... | F9: ...
A11: I.3 | B11: Thu từ cho thuê bất động sản đầu tư (áp dụng đối với các quỹ được phép đầu tư bất động sản) | C11: 2220
A12: ... | B12: ... | C12: ... | F12: ...
A13: I.4 | B13: Cổ tức, trái tức được nhận | C13: 2206 | D13: =BCTaiSan_06027!D33 -> 422911193 | E13: =BCTaiSan_06027!E33 -> 472642732 | F13: =BCTaiSan_06027!F33 -> 86.591104
A14: ... | B14: ... | C14: ... | F14: ...
A16: I.5 | B16: Lãi được nhận | C16: 2207 | D16: =BCTaiSan_06027!D36 -> 550685 | E16: =BCTaiSan_06027!E36 -> 367123 | F16: =BCTaiSan_06027!F36 -> 160.7999
A17: ... | B17: ... | C17: ... | F17: ...
A19: I.6 | B19: Tiền bán bất động sản chờ thu (kê chi tiết - áp dụng đối với các quỹ được phép đầu tư bất động sản) | C19: 2221
